BEGIN:VCALENDAR
VERSION:2.0
PRODID:-//TechWire - ECPv5.2.1//NONSGML v1.0//EN
CALSCALE:GREGORIAN
METHOD:PUBLISH
X-WR-CALNAME:TechWire
X-ORIGINAL-URL:https://techwire.lk
X-WR-CALDESC:Events for TechWire
BEGIN:VTIMEZONE
TZID:Asia/Colombo
BEGIN:STANDARD
TZOFFSETFROM:+0530
TZOFFSETTO:+0530
TZNAME:+0530
DTSTART:20140101T000000
END:STANDARD
END:VTIMEZONE
BEGIN:VEVENT
DTSTART;TZID=Asia/Colombo:20140221T100000
DTEND;TZID=Asia/Colombo:20140221T133000
DTSTAMP:20260424T044435
CREATED:20140210T180329Z
LAST-MODIFIED:20140210T180329Z
UID:2377-1392976800-1392989400@techwire.lk
SUMMARY:SL2College SparkEx 2014
DESCRIPTION:Date : 21st February 2014\nTime : 10.00am – 1.30pm\nVenue : Taj Samudra\, Crystal Ballroom. \n1. Interact with over 25 leading Australian universities and higher educational institutional representatives.\n2. Obtain firsthand information on available programs\, scholarships and relevant content. Additionally\,\n3. Learn how to apply for the Australian Student visa. \nAccommodation is only for 200 participants.\nRegistration is free and now open. \nVisit:www.sl2college.org/sparkex2014 to register!
URL:https://techwire.lk/event/sl2college-sparkex-2014/
LOCATION:Taj Samudra\, Crystal Ballroom
END:VEVENT
END:VCALENDAR