BEGIN:VCALENDAR
VERSION:2.0
PRODID:-//TechWire - ECPv5.2.1//NONSGML v1.0//EN
CALSCALE:GREGORIAN
METHOD:PUBLISH
X-WR-CALNAME:TechWire
X-ORIGINAL-URL:https://techwire.lk
X-WR-CALDESC:Events for TechWire
BEGIN:VTIMEZONE
TZID:Asia/Colombo
BEGIN:STANDARD
TZOFFSETFROM:+0530
TZOFFSETTO:+0530
TZNAME:+0530
DTSTART:20140101T000000
END:STANDARD
END:VTIMEZONE
BEGIN:VEVENT
DTSTART;TZID=Asia/Colombo:20140213T180000
DTEND;TZID=Asia/Colombo:20140213T200000
DTSTAMP:20260424T073308
CREATED:20140210T164224Z
LAST-MODIFIED:20140210T164224Z
UID:2371-1392314400-1392321600@techwire.lk
SUMMARY:Colombo Javascript Meetup
DESCRIPTION:Date : Thursday\, 13th February 2014\nTime : 6.00 pm\nVenue : WSO2 Lobby \n“What really matter in SPA architectures?” – Hasitha 99x technologies \n“Fixing the V in MV* – The reactive way”. by Nadeesha Cabral – WSO2 \n“Jaggery and how it can augment java” by Dilutha (Chan) from WSO2
URL:https://techwire.lk/event/colombo-javascript-meetup/
LOCATION:WSO2 Lobby
END:VEVENT
END:VCALENDAR